BEGIN:VCALENDAR
VERSION:2.0
PRODID:-//West Cook County Solid Waste Agency - ECPv6.15.20//NONSGML v1.0//EN
CALSCALE:GREGORIAN
METHOD:PUBLISH
X-WR-CALNAME:West Cook County Solid Waste Agency
X-ORIGINAL-URL:https://westsubwaste.org
X-WR-CALDESC:Events for West Cook County Solid Waste Agency
REFRESH-INTERVAL;VALUE=DURATION:PT1H
X-Robots-Tag:noindex
X-PUBLISHED-TTL:PT1H
BEGIN:VTIMEZONE
TZID:UTC
BEGIN:STANDARD
TZOFFSETFROM:+0000
TZOFFSETTO:+0000
TZNAME:UTC
DTSTART:20170101T000000
END:STANDARD
END:VTIMEZONE
BEGIN:VTIMEZONE
TZID:America/Chicago
BEGIN:DAYLIGHT
TZOFFSETFROM:-0600
TZOFFSETTO:-0500
TZNAME:CDT
DTSTART:20200308T080000
END:DAYLIGHT
BEGIN:STANDARD
TZOFFSETFROM:-0500
TZOFFSETTO:-0600
TZNAME:CST
DTSTART:20201101T070000
END:STANDARD
BEGIN:DAYLIGHT
TZOFFSETFROM:-0600
TZOFFSETTO:-0500
TZNAME:CDT
DTSTART:20210314T080000
END:DAYLIGHT
BEGIN:STANDARD
TZOFFSETFROM:-0500
TZOFFSETTO:-0600
TZNAME:CST
DTSTART:20211107T070000
END:STANDARD
BEGIN:DAYLIGHT
TZOFFSETFROM:-0600
TZOFFSETTO:-0500
TZNAME:CDT
DTSTART:20220313T080000
END:DAYLIGHT
BEGIN:STANDARD
TZOFFSETFROM:-0500
TZOFFSETTO:-0600
TZNAME:CST
DTSTART:20221106T070000
END:STANDARD
END:VTIMEZONE
BEGIN:VEVENT
DTSTART;TZID=UTC:20210127T180000
DTEND;TZID=UTC:20210127T183000
DTSTAMP:20260421T015137
CREATED:20201023T160225Z
LAST-MODIFIED:20201023T160225Z
UID:1564-1611770400-1611772200@westsubwaste.org
SUMMARY:WCCSWA Winter Board of Directors Meeting
DESCRIPTION:
URL:https://westsubwaste.org/event/wccswa-winter-board-of-directors-meeting-3/
END:VEVENT
BEGIN:VEVENT
DTSTART;TZID=America/Chicago:20210121T160000
DTEND;TZID=America/Chicago:20210121T170000
DTSTAMP:20260421T015137
CREATED:20201023T155950Z
LAST-MODIFIED:20210121T214531Z
UID:1560-1611244800-1611248400@westsubwaste.org
SUMMARY:WCCSWA Winter Executive Committee Meeting - Via Zoom
DESCRIPTION:
URL:https://westsubwaste.org/event/wccswa-winter-executive-committee-meeting-3/
LOCATION:West Cook County Solid Waste Agency\, 2000 Fifth Avenue\, River Grove\, IL\, 60171\, United States
END:VEVENT
BEGIN:VEVENT
DTSTART;TZID=UTC:20200930T143000
DTEND;TZID=UTC:20200930T153000
DTSTAMP:20260421T015137
CREATED:20200903T151223Z
LAST-MODIFIED:20200903T151223Z
UID:1535-1601476200-1601479800@westsubwaste.org
SUMMARY:WCCSWA Fall Board of Directors Meeting
DESCRIPTION:
URL:https://westsubwaste.org/event/wccswa-fall-board-of-directors-meeting-3/
END:VEVENT
BEGIN:VEVENT
DTSTART;TZID=UTC:20200909T140000
DTEND;TZID=UTC:20200909T143000
DTSTAMP:20260421T015137
CREATED:20200903T151117Z
LAST-MODIFIED:20200903T151117Z
UID:1533-1599660000-1599661800@westsubwaste.org
SUMMARY:WCCSWA Fall Executive Committee Meeting
DESCRIPTION:
URL:https://westsubwaste.org/event/wccswa-fall-executive-committee-meeting-3/
END:VEVENT
BEGIN:VEVENT
DTSTART;TZID=UTC:20200429T180000
DTEND;TZID=UTC:20200429T183000
DTSTAMP:20260421T015137
CREATED:20190426T160950Z
LAST-MODIFIED:20200325T180633Z
UID:1404-1588183200-1588185000@westsubwaste.org
SUMMARY:WCCSWA Spring Board of Director's Meeting - POSTPONED UNTIL LATER DATE
DESCRIPTION:
URL:https://westsubwaste.org/event/wccswa-spring-board-of-directors-meeting-2/
END:VEVENT
BEGIN:VEVENT
DTSTART;TZID=UTC:20200422T120000
DTEND;TZID=UTC:20200422T133000
DTSTAMP:20260421T015137
CREATED:20200305T162702Z
LAST-MODIFIED:20200325T180557Z
UID:1451-1587556800-1587562200@westsubwaste.org
SUMMARY:Earth Day 50th Anniversary Luncheon - POSTPONED UNTIL SUMMER/FALL
DESCRIPTION:You are invited to join the members of the West Cook County Solid Waste Agency and Keep West Cook County Beautiful for a luncheon celebrating the 50th Anniversary of Earth Day.   Hear from Municipal Leaders as well as the find out who is this year’s recipient of the GreenQualitiy Achievement Award.    We look forward to seeing you Wednesday\, April 22\, 2020 at 12:00pm at the Riverside Golf Club. \nPlease click on link for Ticket and Sponsorship Information:   Earth Day 2020
URL:https://westsubwaste.org/event/earth-day-50th-anniversary-luncheon/
LOCATION:Riverside Golf Club\, 2520 South Des Plaines Avenue\, North Riverside\, IL\, United States
END:VEVENT
BEGIN:VEVENT
DTSTART;TZID=UTC:20200415T140000
DTEND;TZID=UTC:20200415T150000
DTSTAMP:20260421T015137
CREATED:20200409T194532Z
LAST-MODIFIED:20200409T205624Z
UID:1481-1586959200-1586962800@westsubwaste.org
SUMMARY:WCCSWA Spring Executive Committee Meeting
DESCRIPTION:NOTICE RELATED TO PUBLIC COMMENT FOR ONLINE AGENCY MEETINGS \nDue to the COVID-19 pandemic\, on March 31\, 2020\, Governor J.B. Pritzker issued Executive Order No. 2020-18\, which extended the “Stay at Home” order of Executive Order No. 2020-10.  The “Stay at Home” order was extended through April 30\, 2020. \nPreviously\, on March 16\, 2020\, Governor Pritzker issued Executive Order No. 2020-07\, suspending the Open Meetings Act requirement of in-person attendance at meetings\, which was also extended by Executive Order No. 2020-18.  The West Cook County Solid Waste Agency will implement a virtual meeting format as well as emergency or special meetings as they are deemed necessary so that the Agency may continue the normal course of Operations. \nQuestions may be submitted by email to Executive Director Neil James at njames@westsubwaste.org at least an hour and half prior to the start of the Meeting.  Persons submitting public comments via email are strongly encouraged to provide their name\, their telephone number and address to allow the Agency to contact them if so merited. \nAs with previous Agency meetings\, meeting minutes will be available upon request.
URL:https://westsubwaste.org/event/west-cook-county-solid-waste-agency-executive-committee/
LOCATION:TBD
CATEGORIES:Meeting
END:VEVENT
BEGIN:VEVENT
DTSTART;TZID=UTC:20200408T173000
DTEND;TZID=UTC:20200408T183000
DTSTAMP:20260421T015137
CREATED:20190426T160648Z
LAST-MODIFIED:20200325T175129Z
UID:1398-1586367000-1586370600@westsubwaste.org
SUMMARY:WCCSWA Spring Executive Committee Meeting - POSTPONED
DESCRIPTION:THE APRIL 8TH EXECUTIVE COMMITTEE MEETING HAS BEEN POSTPONED.
URL:https://westsubwaste.org/event/wccswa-spring-executive-committee-meeting-2/
LOCATION:West Cook County Solid Waste Agency\, 2000 Fifth Avenue\, River Grove\, IL\, 60171\, United States
END:VEVENT
BEGIN:VEVENT
DTSTART;TZID=UTC:20200129T180000
DTEND;TZID=UTC:20200129T183000
DTSTAMP:20260421T015137
CREATED:20190426T160900Z
LAST-MODIFIED:20190426T160900Z
UID:1402-1580320800-1580322600@westsubwaste.org
SUMMARY:WCCSWA Winter Board of Director's Meeting
DESCRIPTION:
URL:https://westsubwaste.org/event/wccswa-winter-board-of-directors-meeting-2/
LOCATION:Brookfield Zoo Discovery Center\, 3300 Golf Road\, Brookfield\, IL\, 60513\, United States
END:VEVENT
BEGIN:VEVENT
DTSTART;TZID=UTC:20200108T173000
DTEND;TZID=UTC:20200108T183000
DTSTAMP:20260421T015137
CREATED:20190426T160601Z
LAST-MODIFIED:20190426T160601Z
UID:1396-1578504600-1578508200@westsubwaste.org
SUMMARY:WCCSWA Winter Executive Committee Meeting
DESCRIPTION:
URL:https://westsubwaste.org/event/wccswa-winter-executive-committee-meeting-2/
END:VEVENT
BEGIN:VEVENT
DTSTART;TZID=UTC:20190925T180000
DTEND;TZID=UTC:20190925T183000
DTSTAMP:20260421T015137
CREATED:20190426T160808Z
LAST-MODIFIED:20190426T160808Z
UID:1400-1569434400-1569436200@westsubwaste.org
SUMMARY:WCCSWA Fall Board of Director's Meeting
DESCRIPTION:
URL:https://westsubwaste.org/event/wccswa-fall-board-of-directors-meeting-2/
LOCATION:Brookfield Zoo Discovery Center\, 3300 Golf Road\, Brookfield\, IL\, 60513\, United States
END:VEVENT
BEGIN:VEVENT
DTSTART;TZID=UTC:20190911T173000
DTEND;TZID=UTC:20190911T183000
DTSTAMP:20260421T015137
CREATED:20190426T160422Z
LAST-MODIFIED:20190426T160422Z
UID:1394-1568223000-1568226600@westsubwaste.org
SUMMARY:WCCSWA Fall Executive Committee Meeting
DESCRIPTION:
URL:https://westsubwaste.org/event/wccswa-fall-executive-committee-meeting-2/
LOCATION:West Cook County Solid Waste Agency\, 2000 Fifth Avenue\, River Grove\, IL\, 60171\, United States
END:VEVENT
BEGIN:VEVENT
DTSTART;TZID=UTC:20190424T080000
DTEND;TZID=UTC:20190424T170000
DTSTAMP:20260421T015137
CREATED:20180426T160315Z
LAST-MODIFIED:20180426T160315Z
UID:1279-1556092800-1556125200@westsubwaste.org
SUMMARY:WCCSWA SPRING BOARD OF DIRECTORS MEETING
DESCRIPTION:
URL:https://westsubwaste.org/event/wccswa-spring-board-of-directors-meeting/
LOCATION:Brookfield Zoo Discovery Center\, 3300 Golf Road\, Brookfield\, IL\, 60513\, United States
END:VEVENT
BEGIN:VEVENT
DTSTART;TZID=UTC:20190422T120000
DTEND;TZID=UTC:20190422T170000
DTSTAMP:20260421T015137
CREATED:20190211T214617Z
LAST-MODIFIED:20190211T214617Z
UID:1320-1555934400-1555952400@westsubwaste.org
SUMMARY:WCCSWA EARTH DAY LUNCHEON
DESCRIPTION:The WCCSWA Celebrates its 30th Year with a Special Earth Day Luncheon.   For more information\, please call 708-453-9115.
URL:https://westsubwaste.org/event/wccswa-earth-day-luncheon/
LOCATION:Gene & Georgetti’s\, 9421 West Higgins Road\, Rosemont\, IL\, United States
END:VEVENT
BEGIN:VEVENT
DTSTART;VALUE=DATE:20190422
DTEND;VALUE=DATE:20190423
DTSTAMP:20260421T015137
CREATED:20180426T160736Z
LAST-MODIFIED:20180426T171816Z
UID:1281-1555891200-1555977599@westsubwaste.org
SUMMARY:EARTH DAY 2019
DESCRIPTION:
URL:https://westsubwaste.org/event/2019-earth-day/
END:VEVENT
BEGIN:VEVENT
DTSTART;TZID=UTC:20190410T080000
DTEND;TZID=UTC:20190410T170000
DTSTAMP:20260421T015137
CREATED:20180426T160211Z
LAST-MODIFIED:20180426T160211Z
UID:1277-1554883200-1554915600@westsubwaste.org
SUMMARY:WCCSWA SPRING EXECUTIVE COMMITTEE MEETING
DESCRIPTION:
URL:https://westsubwaste.org/event/wccswa-spring-executive-committee-meeting/
LOCATION:West Cook County Solid Waste Agency\, 2000 Fifth Avenue\, River Grove\, IL\, 60171\, United States
END:VEVENT
BEGIN:VEVENT
DTSTART;TZID=UTC:20190219T113000
DTEND;TZID=UTC:20190219T130000
DTSTAMP:20260421T015137
CREATED:20190211T215217Z
LAST-MODIFIED:20190211T215217Z
UID:1326-1550575800-1550581200@westsubwaste.org
SUMMARY:WCCSWA FINANCE COMMITTEE MEETING
DESCRIPTION:
URL:https://westsubwaste.org/event/wccswa-finance-committee-meeting/
LOCATION:West Cook County Solid Waste Agency\, 2000 Fifth Avenue\, River Grove\, IL\, 60171\, United States
END:VEVENT
BEGIN:VEVENT
DTSTART;TZID=UTC:20190214T170000
DTEND;TZID=UTC:20190214T183000
DTSTAMP:20260421T015137
CREATED:20190211T213928Z
LAST-MODIFIED:20190211T215016Z
UID:1317-1550163600-1550169000@westsubwaste.org
SUMMARY:WCCSWA SPECIAL EXECUTIVE COMMITTEE MEETING
DESCRIPTION:
URL:https://westsubwaste.org/event/wccswa-special-executive-committee-meeting-2/
LOCATION:West Cook County Solid Waste Agency\, 2000 Fifth Avenue\, River Grove\, IL\, 60171\, United States
END:VEVENT
BEGIN:VEVENT
DTSTART;TZID=UTC:20190130T180000
DTEND;TZID=UTC:20190130T183000
DTSTAMP:20260421T015137
CREATED:20180426T160057Z
LAST-MODIFIED:20190128T170324Z
UID:1275-1548871200-1548873000@westsubwaste.org
SUMMARY:WCCSWA WINTER BOARD OF DIRECTORS MEETING - CANCELLED DUE TO SEVERE DANGEROUS WEATHER CONDITIONS
DESCRIPTION:DUE TO THE ANTICIPATED SEVERE DANGEROUS WEATHER CONDITIONS\, THE AGENCY BOARD OF DIRECTORS MEETING HAS BEEN CANCELLED FOR WEDNESDAY\, JANUARY 30TH AT 6:00pm.
URL:https://westsubwaste.org/event/wccswa-winter-board-of-directors-meeting/
LOCATION:Brookfield Zoo Discovery Center\, 3300 Golf Road\, Brookfield\, IL\, 60513\, United States
END:VEVENT
BEGIN:VEVENT
DTSTART;TZID=UTC:20190109T173000
DTEND;TZID=UTC:20190109T183000
DTSTAMP:20260421T015137
CREATED:20180426T160011Z
LAST-MODIFIED:20180426T160011Z
UID:1273-1547055000-1547058600@westsubwaste.org
SUMMARY:WCCSWA WINTER EXECUTIVE COMMITTEE MEETING
DESCRIPTION:
URL:https://westsubwaste.org/event/wccswa-winter-executive-committee-meeting/
END:VEVENT
BEGIN:VEVENT
DTSTART;VALUE=DATE:20181115
DTEND;VALUE=DATE:20181116
DTSTAMP:20260421T015137
CREATED:20180426T172003Z
LAST-MODIFIED:20180426T172205Z
UID:1284-1542240000-1542326399@westsubwaste.org
SUMMARY:America Recycles Day
DESCRIPTION:
URL:https://westsubwaste.org/event/americas-recycles-day/
END:VEVENT
BEGIN:VEVENT
DTSTART;TZID=UTC:20180926T180000
DTEND;TZID=UTC:20180926T183000
DTSTAMP:20260421T015137
CREATED:20180426T155848Z
LAST-MODIFIED:20180426T155907Z
UID:1271-1537984800-1537986600@westsubwaste.org
SUMMARY:WCCSWA FALL BOARD OF DIRECTORS MEETING
DESCRIPTION:
URL:https://westsubwaste.org/event/wccswa-fall-board-of-directors-meeting/
LOCATION:Brookfield Zoo Discovery Center\, 3300 Golf Road\, Brookfield\, IL\, 60513\, United States
END:VEVENT
BEGIN:VEVENT
DTSTART;TZID=UTC:20180912T173000
DTEND;TZID=UTC:20180912T183000
DTSTAMP:20260421T015137
CREATED:20180426T155756Z
LAST-MODIFIED:20180426T155756Z
UID:1269-1536773400-1536777000@westsubwaste.org
SUMMARY:WCCSWA FALL EXECUTIVE COMMITTEE MEETING
DESCRIPTION:
URL:https://westsubwaste.org/event/wccswa-fall-executive-committee-meeting/
LOCATION:West Cook County Solid Waste Agency\, 2000 Fifth Avenue\, River Grove\, IL\, 60171\, United States
END:VEVENT
BEGIN:VEVENT
DTSTART;TZID=UTC:20180425T180000
DTEND;TZID=UTC:20180425T180000
DTSTAMP:20260421T015137
CREATED:20180123T193731Z
LAST-MODIFIED:20180123T193731Z
UID:1220-1524679200-1524679200@westsubwaste.org
SUMMARY:WCCSWA Board of Directors
DESCRIPTION:
URL:https://westsubwaste.org/event/wccswa-board-of-directors-7/
CATEGORIES:Meeting
END:VEVENT
BEGIN:VEVENT
DTSTART;TZID=UTC:20180425T163000
DTEND;TZID=UTC:20180425T170000
DTSTAMP:20260421T015137
CREATED:20180417T214158Z
LAST-MODIFIED:20180417T214158Z
UID:1255-1524673800-1524675600@westsubwaste.org
SUMMARY:WCCSWA Special Executive Committee Meeting
DESCRIPTION:
URL:https://westsubwaste.org/event/wccswa-special-executive-committee-meeting/
LOCATION:Brookfield Zoo Discovery Center\, 3300 Golf Road\, Brookfield\, IL\, 60513\, United States
END:VEVENT
BEGIN:VEVENT
DTSTART;VALUE=DATE:20180422
DTEND;VALUE=DATE:20180423
DTSTAMP:20260421T015137
CREATED:20180124T161542Z
LAST-MODIFIED:20180124T161621Z
UID:1233-1524355200-1524441599@westsubwaste.org
SUMMARY:Earth Day 2018
DESCRIPTION:
URL:https://westsubwaste.org/event/earth-day-2018/
CATEGORIES:Environmental Movement
END:VEVENT
BEGIN:VEVENT
DTSTART;TZID=UTC:20180411T173000
DTEND;TZID=UTC:20180411T173000
DTSTAMP:20260421T015137
CREATED:20180123T193624Z
LAST-MODIFIED:20180123T193624Z
UID:1218-1523467800-1523467800@westsubwaste.org
SUMMARY:WCCSWA Executive Committee
DESCRIPTION:
URL:https://westsubwaste.org/event/wccswa-executive-committee-9/
LOCATION:West Cook County Solid Waste Agency\, 2000 Fifth Avenue\, River Grove\, IL\, 60171\, United States
CATEGORIES:Meeting
END:VEVENT
BEGIN:VEVENT
DTSTART;TZID=UTC:20180213T113000
DTEND;TZID=UTC:20180213T133000
DTSTAMP:20260421T015137
CREATED:20180123T193440Z
LAST-MODIFIED:20180123T193440Z
UID:1216-1518521400-1518528600@westsubwaste.org
SUMMARY:WCCSWA Finance Committee
DESCRIPTION:
URL:https://westsubwaste.org/event/wccswa-finance-committee-3/
LOCATION:West Cook County Solid Waste Agency\, 2000 Fifth Avenue\, River Grove\, IL\, 60171\, United States
CATEGORIES:Meeting
END:VEVENT
BEGIN:VEVENT
DTSTART;TZID=UTC:20180124T180000
DTEND;TZID=UTC:20180124T183000
DTSTAMP:20260421T015137
CREATED:20170501T213903Z
LAST-MODIFIED:20180123T194200Z
UID:1167-1516816800-1516818600@westsubwaste.org
SUMMARY:WCCSWA Board of Directors
DESCRIPTION:
URL:https://westsubwaste.org/event/wccswa-board-of-directors-4/
LOCATION:Brookfield Zoo Discovery Center\, 3300 Golf Road\, Brookfield\, IL\, 60513\, United States
CATEGORIES:Meeting
END:VEVENT
BEGIN:VEVENT
DTSTART;TZID=UTC:20180124T163000
DTEND;TZID=UTC:20180124T173000
DTSTAMP:20260421T015137
CREATED:20180123T193235Z
LAST-MODIFIED:20180123T194243Z
UID:1214-1516811400-1516815000@westsubwaste.org
SUMMARY:WCCSWA Special Executive Committee
DESCRIPTION:
URL:https://westsubwaste.org/event/wccswa-special-executive-committee/
LOCATION:Brookfield Zoo Discovery Center\, 3300 Golf Road\, Brookfield\, IL\, 60513\, United States
CATEGORIES:Meeting
END:VEVENT
END:VCALENDAR