BEGIN:VCALENDAR
VERSION:2.0
PRODID:-//West Cook County Solid Waste Agency - ECPv6.15.20//NONSGML v1.0//EN
CALSCALE:GREGORIAN
METHOD:PUBLISH
X-WR-CALNAME:West Cook County Solid Waste Agency
X-ORIGINAL-URL:https://westsubwaste.org
X-WR-CALDESC:Events for West Cook County Solid Waste Agency
REFRESH-INTERVAL;VALUE=DURATION:PT1H
X-Robots-Tag:noindex
X-PUBLISHED-TTL:PT1H
BEGIN:VTIMEZONE
TZID:UTC
BEGIN:STANDARD
TZOFFSETFROM:+0000
TZOFFSETTO:+0000
TZNAME:UTC
DTSTART:20150101T000000
END:STANDARD
END:VTIMEZONE
BEGIN:VEVENT
DTSTART;VALUE=DATE:20170422
DTEND;VALUE=DATE:20170423
DTSTAMP:20260421T234242
CREATED:20160504T184321Z
LAST-MODIFIED:20160504T185539Z
UID:1082-1492819200-1492905599@westsubwaste.org
SUMMARY:Earth Day
DESCRIPTION:
URL:https://westsubwaste.org/event/earth-day-2/
LOCATION:IL
END:VEVENT
BEGIN:VEVENT
DTSTART;TZID=UTC:20170412T173000
DTEND;TZID=UTC:20170412T183000
DTSTAMP:20260421T234242
CREATED:20160504T183824Z
LAST-MODIFIED:20160504T185604Z
UID:1078-1492018200-1492021800@westsubwaste.org
SUMMARY:WCCSWA Executive Committee
DESCRIPTION:
URL:https://westsubwaste.org/event/wccswa-executive-committee-5/
LOCATION:West Cook County Solid Waste Agency\, 2000 Fifth Avenue\, River Grove\, IL\, 60171\, United States
END:VEVENT
BEGIN:VEVENT
DTSTART;TZID=UTC:20170325T203000
DTEND;TZID=UTC:20170325T213000
DTSTAMP:20260421T234242
CREATED:20160504T184453Z
LAST-MODIFIED:20160504T185433Z
UID:1083-1490473800-1490477400@westsubwaste.org
SUMMARY:Earth Hour
DESCRIPTION:
URL:https://westsubwaste.org/event/earth-hour-3/
LOCATION:IL
END:VEVENT
BEGIN:VEVENT
DTSTART;TZID=UTC:20170214T113000
DTEND;TZID=UTC:20170214T130000
DTSTAMP:20260421T234242
CREATED:20170127T162537Z
LAST-MODIFIED:20170127T162537Z
UID:1136-1487071800-1487077200@westsubwaste.org
SUMMARY:WCCSWA Finance Committee
DESCRIPTION:
URL:https://westsubwaste.org/event/wccswa-finance-committee-2/
LOCATION:West Cook County Solid Waste Agency\, 2000 Fifth Avenue\, River Grove\, IL\, 60171\, United States
END:VEVENT
BEGIN:VEVENT
DTSTART;TZID=UTC:20170125T173000
DTEND;TZID=UTC:20170125T183000
DTSTAMP:20260421T234242
CREATED:20160504T184025Z
LAST-MODIFIED:20160504T185643Z
UID:1080-1485365400-1485369000@westsubwaste.org
SUMMARY:WCCSWA Board of Directors
DESCRIPTION:
URL:https://westsubwaste.org/event/wccswa-board-of-directors/
LOCATION:Brookfield Zoo Discovery Center\, 3300 Golf Road\, Brookfield\, IL\, 60513\, United States
END:VEVENT
BEGIN:VEVENT
DTSTART;TZID=UTC:20170111T173000
DTEND;TZID=UTC:20170111T183000
DTSTAMP:20260421T234242
CREATED:20160504T183720Z
LAST-MODIFIED:20160504T185709Z
UID:1077-1484155800-1484159400@westsubwaste.org
SUMMARY:WCCSWA Executive Committee
DESCRIPTION:
URL:https://westsubwaste.org/event/wccswa-executive-committee-4/
LOCATION:IL
END:VEVENT
BEGIN:VEVENT
DTSTART;VALUE=DATE:20161115
DTEND;VALUE=DATE:20161116
DTSTAMP:20260421T234242
CREATED:20160504T184747Z
LAST-MODIFIED:20160504T185751Z
UID:1084-1479168000-1479254399@westsubwaste.org
SUMMARY:America Recycles Day
DESCRIPTION:
URL:https://westsubwaste.org/event/america-recycles-day/
LOCATION:IL
END:VEVENT
BEGIN:VEVENT
DTSTART;TZID=UTC:20160928T173000
DTEND;TZID=UTC:20160928T183000
DTSTAMP:20260421T234242
CREATED:20160504T183930Z
LAST-MODIFIED:20160504T185354Z
UID:1079-1475083800-1475087400@westsubwaste.org
SUMMARY:WCCSWA Board of Directors
DESCRIPTION:
URL:https://westsubwaste.org/event/wccswa-board-of-directors-meeting-5/
LOCATION:Brookfield Zoo Discovery Center\, 3300 Golf Road\, Brookfield\, IL\, 60513\, United States
END:VEVENT
BEGIN:VEVENT
DTSTART;TZID=UTC:20160914T173000
DTEND;TZID=UTC:20160914T183000
DTSTAMP:20260421T234242
CREATED:20160504T183622Z
LAST-MODIFIED:20160504T185937Z
UID:1076-1473874200-1473877800@westsubwaste.org
SUMMARY:WCCSWA Executive Committee
DESCRIPTION:
URL:https://westsubwaste.org/event/wccswa-executive-committee-3/
LOCATION:West Cook County Solid Waste Agency\, 2000 Fifth Avenue\, River Grove\, IL\, 60171\, United States
END:VEVENT
BEGIN:VEVENT
DTSTART;TZID=UTC:20160427T173000
DTEND;TZID=UTC:20160427T180000
DTSTAMP:20260421T234242
CREATED:20150923T162415Z
LAST-MODIFIED:20160504T184931Z
UID:1022-1461778200-1461780000@westsubwaste.org
SUMMARY:WCCSWA Board of Directors
DESCRIPTION:
URL:https://westsubwaste.org/event/wccswa-board-of-directors-meeting-4/
LOCATION:Brookfield Zoo Discovery Center\, 3300 Golf Road\, Brookfield\, IL\, 60513\, United States
END:VEVENT
BEGIN:VEVENT
DTSTART;TZID=UTC:20160416T090000
DTEND;TZID=UTC:20160416T113000
DTSTAMP:20260421T234242
CREATED:20160315T181626Z
LAST-MODIFIED:20160315T181626Z
UID:1047-1460797200-1460806200@westsubwaste.org
SUMMARY:Electronics Collection Event
DESCRIPTION:In celebration of Earth Day 2016\, the West Cook County Solid Waste Agency (Agency) in cooperation with the Village of Westchester – Environmental Sustainability Committee\, are hosting an Electronics Collection event for Saturday\, April 16\, 2016.  This region wide event will take place at the Village of Westchester Water Tower from 9:00 a.m. till 11:30 a.m.
URL:https://westsubwaste.org/event/electronics-collection-event/
LOCATION:Westchester Water Tower\, 60154\, United States
END:VEVENT
BEGIN:VEVENT
DTSTART;TZID=UTC:20160218T113000
DTEND;TZID=UTC:20160218T133000
DTSTAMP:20260421T234242
CREATED:20160121T164151Z
LAST-MODIFIED:20160121T164151Z
UID:1041-1455795000-1455802200@westsubwaste.org
SUMMARY:WCCSWA Finance Committee
DESCRIPTION:
URL:https://westsubwaste.org/event/wccswa-finance-committee/
LOCATION:West Cook County Solid Waste Agency\, 2000 Fifth Avenue\, River Grove\, IL\, 60171\, United States
END:VEVENT
END:VCALENDAR