BEGIN:VCALENDAR
VERSION:2.0
PRODID:-//West Cook County Solid Waste Agency - ECPv6.15.20//NONSGML v1.0//EN
CALSCALE:GREGORIAN
METHOD:PUBLISH
X-WR-CALNAME:West Cook County Solid Waste Agency
X-ORIGINAL-URL:https://westsubwaste.org
X-WR-CALDESC:Events for West Cook County Solid Waste Agency
REFRESH-INTERVAL;VALUE=DURATION:PT1H
X-Robots-Tag:noindex
X-PUBLISHED-TTL:PT1H
BEGIN:VTIMEZONE
TZID:America/Chicago
BEGIN:DAYLIGHT
TZOFFSETFROM:-0600
TZOFFSETTO:-0500
TZNAME:CDT
DTSTART:20200308T080000
END:DAYLIGHT
BEGIN:STANDARD
TZOFFSETFROM:-0500
TZOFFSETTO:-0600
TZNAME:CST
DTSTART:20201101T070000
END:STANDARD
BEGIN:DAYLIGHT
TZOFFSETFROM:-0600
TZOFFSETTO:-0500
TZNAME:CDT
DTSTART:20210314T080000
END:DAYLIGHT
BEGIN:STANDARD
TZOFFSETFROM:-0500
TZOFFSETTO:-0600
TZNAME:CST
DTSTART:20211107T070000
END:STANDARD
BEGIN:DAYLIGHT
TZOFFSETFROM:-0600
TZOFFSETTO:-0500
TZNAME:CDT
DTSTART:20220313T080000
END:DAYLIGHT
BEGIN:STANDARD
TZOFFSETFROM:-0500
TZOFFSETTO:-0600
TZNAME:CST
DTSTART:20221106T070000
END:STANDARD
END:VTIMEZONE
BEGIN:VTIMEZONE
TZID:UTC
BEGIN:STANDARD
TZOFFSETFROM:+0000
TZOFFSETTO:+0000
TZNAME:UTC
DTSTART:20200101T000000
END:STANDARD
END:VTIMEZONE
BEGIN:VEVENT
DTSTART;TZID=America/Chicago:20210121T160000
DTEND;TZID=America/Chicago:20210121T170000
DTSTAMP:20260421T013402
CREATED:20201023T155950Z
LAST-MODIFIED:20210121T214531Z
UID:1560-1611244800-1611248400@westsubwaste.org
SUMMARY:WCCSWA Winter Executive Committee Meeting - Via Zoom
DESCRIPTION:
URL:https://westsubwaste.org/event/wccswa-winter-executive-committee-meeting-3/
LOCATION:West Cook County Solid Waste Agency\, 2000 Fifth Avenue\, River Grove\, IL\, 60171\, United States
END:VEVENT
BEGIN:VEVENT
DTSTART;TZID=UTC:20210127T180000
DTEND;TZID=UTC:20210127T183000
DTSTAMP:20260421T013402
CREATED:20201023T160225Z
LAST-MODIFIED:20201023T160225Z
UID:1564-1611770400-1611772200@westsubwaste.org
SUMMARY:WCCSWA Winter Board of Directors Meeting
DESCRIPTION:
URL:https://westsubwaste.org/event/wccswa-winter-board-of-directors-meeting-3/
END:VEVENT
END:VCALENDAR