BEGIN:VCALENDAR
VERSION:2.0
PRODID:-//West Cook County Solid Waste Agency - ECPv6.15.20//NONSGML v1.0//EN
CALSCALE:GREGORIAN
METHOD:PUBLISH
X-WR-CALNAME:West Cook County Solid Waste Agency
X-ORIGINAL-URL:https://westsubwaste.org
X-WR-CALDESC:Events for West Cook County Solid Waste Agency
REFRESH-INTERVAL;VALUE=DURATION:PT1H
X-Robots-Tag:noindex
X-PUBLISHED-TTL:PT1H
BEGIN:VTIMEZONE
TZID:UTC
BEGIN:STANDARD
TZOFFSETFROM:+0000
TZOFFSETTO:+0000
TZNAME:UTC
DTSTART:20210101T000000
END:STANDARD
END:VTIMEZONE
BEGIN:VEVENT
DTSTART;TZID=UTC:20220222T113000
DTEND;TZID=UTC:20220222T123000
DTSTAMP:20260421T135010
CREATED:20220120T163339Z
LAST-MODIFIED:20220120T163339Z
UID:1688-1645529400-1645533000@westsubwaste.org
SUMMARY:WCCSWA Finance Committee
DESCRIPTION:
URL:https://westsubwaste.org/event/wccswa-finance-committee-4/
LOCATION:Zoom\, N/A\, N/A\, IL\, United States
END:VEVENT
END:VCALENDAR