BEGIN:VCALENDAR
VERSION:2.0
PRODID:-//West Cook County Solid Waste Agency - ECPv6.15.20//NONSGML v1.0//EN
CALSCALE:GREGORIAN
METHOD:PUBLISH
X-ORIGINAL-URL:https://westsubwaste.org
X-WR-CALDESC:Events for West Cook County Solid Waste Agency
REFRESH-INTERVAL;VALUE=DURATION:PT1H
X-Robots-Tag:noindex
X-PUBLISHED-TTL:PT1H
BEGIN:VTIMEZONE
TZID:UTC
BEGIN:STANDARD
TZOFFSETFROM:+0000
TZOFFSETTO:+0000
TZNAME:UTC
DTSTART:20210101T000000
END:STANDARD
END:VTIMEZONE
BEGIN:VEVENT
DTSTART;TZID=UTC:20220413T160000
DTEND;TZID=UTC:20220413T173000
DTSTAMP:20260421T171557
CREATED:20210901T155226Z
LAST-MODIFIED:20220405T151843Z
UID:1645-1649865600-1649871000@westsubwaste.org
SUMMARY:WCCSWA Spring Executive Committee Meeting
DESCRIPTION:
URL:https://westsubwaste.org/event/wccswa-spring-executive-committee-meeting-4/
LOCATION:Zoom\, N/A\, N/A\, IL\, United States
END:VEVENT
BEGIN:VEVENT
DTSTART;TZID=UTC:20220427T180000
DTEND;TZID=UTC:20220427T183000
DTSTAMP:20260421T171557
CREATED:20210901T155404Z
LAST-MODIFIED:20220418T202509Z
UID:1649-1651082400-1651084200@westsubwaste.org
SUMMARY:WCCSWA Spring Board of Directors Meeting
DESCRIPTION:
URL:https://westsubwaste.org/event/wccswa-spring-board-of-directors-meeting-4/
LOCATION:Village of North Riverside\, 2401 S. Des Plaines Avenue\, North Riverside\, 60546
END:VEVENT
END:VCALENDAR