BEGIN:VCALENDAR
VERSION:2.0
PRODID:-//West Cook County Solid Waste Agency - ECPv6.15.20//NONSGML v1.0//EN
CALSCALE:GREGORIAN
METHOD:PUBLISH
X-ORIGINAL-URL:https://westsubwaste.org
X-WR-CALDESC:Events for West Cook County Solid Waste Agency
REFRESH-INTERVAL;VALUE=DURATION:PT1H
X-Robots-Tag:noindex
X-PUBLISHED-TTL:PT1H
BEGIN:VTIMEZONE
TZID:UTC
BEGIN:STANDARD
TZOFFSETFROM:+0000
TZOFFSETTO:+0000
TZNAME:UTC
DTSTART:20220101T000000
END:STANDARD
END:VTIMEZONE
BEGIN:VEVENT
DTSTART;TZID=UTC:20231019T090000
DTEND;TZID=UTC:20231019T103000
DTSTAMP:20260421T220540
CREATED:20231015T194722Z
LAST-MODIFIED:20231015T194722Z
UID:1764-1697706000-1697711400@westsubwaste.org
SUMMARY:WCCSWA Fall Executive Committee Meeting
DESCRIPTION:
URL:https://westsubwaste.org/event/wccswa-fall-executive-committee-meeting-4/
END:VEVENT
END:VCALENDAR